BEGIN:VCALENDAR
VERSION:2.0
PRODID:-//Library Market//iCal Export//EN
BEGIN:VEVENT
SUMMARY:Steps &amp; Stories
UID:2098
DTSTAMP:20260424T223500Z
DTSTART:20260707T150000Z
DTEND:20260707T160000Z
LOCATION:Hamilton North Public Library, 209 West Brinton St, Cicero, IN 46
 034, United States
ROOM: Picnic Table Area
DESCRIPTION:Grab your earbuds and water bottles! HNPL has a new club for y
 ou, the Steps &amp; Stories Club. We will be listening to audiobooks while
  we walk the park trail. Once we have done our laps we will strech and dis
 cuss which books we are listening too. Please meet at the picnic table on 
 the west side of the library building. There we will gear up and head to t
 he park next door for our laps. See you there!
URL:https://hnpl.librarycalendar.com/event/steps-stories-2098
END:VEVENT
END:VCALENDAR
